BEGIN:VCALENDAR
VERSION:2.0
PRODID:-//Good Green Acres - ECPv6.15.20//NONSGML v1.0//EN
CALSCALE:GREGORIAN
METHOD:PUBLISH
X-ORIGINAL-URL:https://goodgreenacres.com
X-WR-CALDESC:Events for Good Green Acres
REFRESH-INTERVAL;VALUE=DURATION:PT1H
X-Robots-Tag:noindex
X-PUBLISHED-TTL:PT1H
BEGIN:VTIMEZONE
TZID:America/Denver
BEGIN:DAYLIGHT
TZOFFSETFROM:-0700
TZOFFSETTO:-0600
TZNAME:MDT
DTSTART:20230312T090000
END:DAYLIGHT
BEGIN:STANDARD
TZOFFSETFROM:-0600
TZOFFSETTO:-0700
TZNAME:MST
DTSTART:20231105T080000
END:STANDARD
BEGIN:DAYLIGHT
TZOFFSETFROM:-0700
TZOFFSETTO:-0600
TZNAME:MDT
DTSTART:20240310T090000
END:DAYLIGHT
BEGIN:STANDARD
TZOFFSETFROM:-0600
TZOFFSETTO:-0700
TZNAME:MST
DTSTART:20241103T080000
END:STANDARD
BEGIN:DAYLIGHT
TZOFFSETFROM:-0700
TZOFFSETTO:-0600
TZNAME:MDT
DTSTART:20250309T090000
END:DAYLIGHT
BEGIN:STANDARD
TZOFFSETFROM:-0600
TZOFFSETTO:-0700
TZNAME:MST
DTSTART:20251102T080000
END:STANDARD
BEGIN:DAYLIGHT
TZOFFSETFROM:-0700
TZOFFSETTO:-0600
TZNAME:MDT
DTSTART:20260308T090000
END:DAYLIGHT
BEGIN:STANDARD
TZOFFSETFROM:-0600
TZOFFSETTO:-0700
TZNAME:MST
DTSTART:20261101T080000
END:STANDARD
END:VTIMEZONE
BEGIN:VEVENT
DTSTART;TZID=America/Denver:20250223T130000
DTEND;TZID=America/Denver:20250223T140000
DTSTAMP:20260422T160456
CREATED:20240216T192719Z
LAST-MODIFIED:20240320T153126Z
UID:10001508-1740315600-1740319200@goodgreenacres.com
SUMMARY:Volunteer Opportunities
DESCRIPTION:Donate your time at the farm\, and help us grow produce for our local food drive.
URL:https://goodgreenacres.com/event/volunteer-opportunities-2/2025-02-23/
LOCATION:Good Green Acres
ATTACH;FMTTYPE=image/jpeg:https://goodgreenacres.com/wp-content/uploads/2024/01/fmf_7wD8nAV.jpg
END:VEVENT
BEGIN:VEVENT
DTSTART;TZID=America/Denver:20250215T130000
DTEND;TZID=America/Denver:20250215T140000
DTSTAMP:20260422T160456
CREATED:20240216T192719Z
LAST-MODIFIED:20240320T153126Z
UID:10001505-1739624400-1739628000@goodgreenacres.com
SUMMARY:Volunteer Opportunities
DESCRIPTION:Donate your time at the farm\, and help us grow produce for our local food drive.
URL:https://goodgreenacres.com/event/volunteer-opportunities-2/2025-02-15/
LOCATION:Good Green Acres
ATTACH;FMTTYPE=image/jpeg:https://goodgreenacres.com/wp-content/uploads/2024/01/fmf_7wD8nAV.jpg
END:VEVENT
BEGIN:VEVENT
DTSTART;TZID=America/Denver:20250209T130000
DTEND;TZID=America/Denver:20250209T140000
DTSTAMP:20260422T160456
CREATED:20240216T192719Z
LAST-MODIFIED:20240320T153126Z
UID:10001504-1739106000-1739109600@goodgreenacres.com
SUMMARY:Volunteer Opportunities
DESCRIPTION:Donate your time at the farm\, and help us grow produce for our local food drive.
URL:https://goodgreenacres.com/event/volunteer-opportunities-2/2025-02-09/
LOCATION:Good Green Acres
ATTACH;FMTTYPE=image/jpeg:https://goodgreenacres.com/wp-content/uploads/2024/01/fmf_7wD8nAV.jpg
END:VEVENT
BEGIN:VEVENT
DTSTART;TZID=America/Denver:20250201T130000
DTEND;TZID=America/Denver:20250201T140000
DTSTAMP:20260422T160456
CREATED:20240216T192719Z
LAST-MODIFIED:20240320T153126Z
UID:10001501-1738414800-1738418400@goodgreenacres.com
SUMMARY:Volunteer Opportunities
DESCRIPTION:Donate your time at the farm\, and help us grow produce for our local food drive.
URL:https://goodgreenacres.com/event/volunteer-opportunities-2/2025-02-01/
LOCATION:Good Green Acres
ATTACH;FMTTYPE=image/jpeg:https://goodgreenacres.com/wp-content/uploads/2024/01/fmf_7wD8nAV.jpg
END:VEVENT
BEGIN:VEVENT
DTSTART;TZID=America/Denver:20250126T130000
DTEND;TZID=America/Denver:20250126T140000
DTSTAMP:20260422T160456
CREATED:20240216T192719Z
LAST-MODIFIED:20240320T153126Z
UID:10001500-1737896400-1737900000@goodgreenacres.com
SUMMARY:Volunteer Opportunities
DESCRIPTION:Donate your time at the farm\, and help us grow produce for our local food drive.
URL:https://goodgreenacres.com/event/volunteer-opportunities-2/2025-01-26/
LOCATION:Good Green Acres
ATTACH;FMTTYPE=image/jpeg:https://goodgreenacres.com/wp-content/uploads/2024/01/fmf_7wD8nAV.jpg
END:VEVENT
BEGIN:VEVENT
DTSTART;TZID=America/Denver:20250118T130000
DTEND;TZID=America/Denver:20250118T140000
DTSTAMP:20260422T160456
CREATED:20240216T192719Z
LAST-MODIFIED:20240320T153126Z
UID:10001497-1737205200-1737208800@goodgreenacres.com
SUMMARY:Volunteer Opportunities
DESCRIPTION:Donate your time at the farm\, and help us grow produce for our local food drive.
URL:https://goodgreenacres.com/event/volunteer-opportunities-2/2025-01-18/
LOCATION:Good Green Acres
ATTACH;FMTTYPE=image/jpeg:https://goodgreenacres.com/wp-content/uploads/2024/01/fmf_7wD8nAV.jpg
END:VEVENT
BEGIN:VEVENT
DTSTART;TZID=America/Denver:20250112T130000
DTEND;TZID=America/Denver:20250112T140000
DTSTAMP:20260422T160456
CREATED:20240216T192719Z
LAST-MODIFIED:20240320T153126Z
UID:10001496-1736686800-1736690400@goodgreenacres.com
SUMMARY:Volunteer Opportunities
DESCRIPTION:Donate your time at the farm\, and help us grow produce for our local food drive.
URL:https://goodgreenacres.com/event/volunteer-opportunities-2/2025-01-12/
LOCATION:Good Green Acres
ATTACH;FMTTYPE=image/jpeg:https://goodgreenacres.com/wp-content/uploads/2024/01/fmf_7wD8nAV.jpg
END:VEVENT
BEGIN:VEVENT
DTSTART;TZID=America/Denver:20250104T130000
DTEND;TZID=America/Denver:20250104T140000
DTSTAMP:20260422T160456
CREATED:20240216T192719Z
LAST-MODIFIED:20240320T153126Z
UID:10001493-1735995600-1735999200@goodgreenacres.com
SUMMARY:Volunteer Opportunities
DESCRIPTION:Donate your time at the farm\, and help us grow produce for our local food drive.
URL:https://goodgreenacres.com/event/volunteer-opportunities-2/2025-01-04/
LOCATION:Good Green Acres
ATTACH;FMTTYPE=image/jpeg:https://goodgreenacres.com/wp-content/uploads/2024/01/fmf_7wD8nAV.jpg
END:VEVENT
BEGIN:VEVENT
DTSTART;TZID=America/Denver:20241229T130000
DTEND;TZID=America/Denver:20241229T140000
DTSTAMP:20260422T160456
CREATED:20240216T192719Z
LAST-MODIFIED:20240320T153126Z
UID:10001492-1735477200-1735480800@goodgreenacres.com
SUMMARY:Volunteer Opportunities
DESCRIPTION:Donate your time at the farm\, and help us grow produce for our local food drive.
URL:https://goodgreenacres.com/event/volunteer-opportunities-2/2024-12-29/
LOCATION:Good Green Acres
ATTACH;FMTTYPE=image/jpeg:https://goodgreenacres.com/wp-content/uploads/2024/01/fmf_7wD8nAV.jpg
END:VEVENT
BEGIN:VEVENT
DTSTART;TZID=America/Denver:20241221T130000
DTEND;TZID=America/Denver:20241221T140000
DTSTAMP:20260422T160456
CREATED:20240216T192719Z
LAST-MODIFIED:20240320T153126Z
UID:10001489-1734786000-1734789600@goodgreenacres.com
SUMMARY:Volunteer Opportunities
DESCRIPTION:Donate your time at the farm\, and help us grow produce for our local food drive.
URL:https://goodgreenacres.com/event/volunteer-opportunities-2/2024-12-21/
LOCATION:Good Green Acres
ATTACH;FMTTYPE=image/jpeg:https://goodgreenacres.com/wp-content/uploads/2024/01/fmf_7wD8nAV.jpg
END:VEVENT
BEGIN:VEVENT
DTSTART;TZID=America/Denver:20241215T130000
DTEND;TZID=America/Denver:20241215T140000
DTSTAMP:20260422T160456
CREATED:20240216T192719Z
LAST-MODIFIED:20240320T153126Z
UID:10001488-1734267600-1734271200@goodgreenacres.com
SUMMARY:Volunteer Opportunities
DESCRIPTION:Donate your time at the farm\, and help us grow produce for our local food drive.
URL:https://goodgreenacres.com/event/volunteer-opportunities-2/2024-12-15/
LOCATION:Good Green Acres
ATTACH;FMTTYPE=image/jpeg:https://goodgreenacres.com/wp-content/uploads/2024/01/fmf_7wD8nAV.jpg
END:VEVENT
BEGIN:VEVENT
DTSTART;TZID=America/Denver:20241207T130000
DTEND;TZID=America/Denver:20241207T140000
DTSTAMP:20260422T160456
CREATED:20240216T192719Z
LAST-MODIFIED:20240320T153126Z
UID:10001485-1733576400-1733580000@goodgreenacres.com
SUMMARY:Volunteer Opportunities
DESCRIPTION:Donate your time at the farm\, and help us grow produce for our local food drive.
URL:https://goodgreenacres.com/event/volunteer-opportunities-2/2024-12-07/
LOCATION:Good Green Acres
ATTACH;FMTTYPE=image/jpeg:https://goodgreenacres.com/wp-content/uploads/2024/01/fmf_7wD8nAV.jpg
END:VEVENT
BEGIN:VEVENT
DTSTART;TZID=America/Denver:20241201T130000
DTEND;TZID=America/Denver:20241201T140000
DTSTAMP:20260422T160456
CREATED:20240216T192719Z
LAST-MODIFIED:20240320T153126Z
UID:10001484-1733058000-1733061600@goodgreenacres.com
SUMMARY:Volunteer Opportunities
DESCRIPTION:Donate your time at the farm\, and help us grow produce for our local food drive.
URL:https://goodgreenacres.com/event/volunteer-opportunities-2/2024-12-01/
LOCATION:Good Green Acres
ATTACH;FMTTYPE=image/jpeg:https://goodgreenacres.com/wp-content/uploads/2024/01/fmf_7wD8nAV.jpg
END:VEVENT
BEGIN:VEVENT
DTSTART;TZID=America/Denver:20241123T130000
DTEND;TZID=America/Denver:20241123T140000
DTSTAMP:20260422T160456
CREATED:20240216T192719Z
LAST-MODIFIED:20240320T153126Z
UID:10001481-1732366800-1732370400@goodgreenacres.com
SUMMARY:Volunteer Opportunities
DESCRIPTION:Donate your time at the farm\, and help us grow produce for our local food drive.
URL:https://goodgreenacres.com/event/volunteer-opportunities-2/2024-11-23/
LOCATION:Good Green Acres
ATTACH;FMTTYPE=image/jpeg:https://goodgreenacres.com/wp-content/uploads/2024/01/fmf_7wD8nAV.jpg
END:VEVENT
BEGIN:VEVENT
DTSTART;TZID=America/Denver:20241117T130000
DTEND;TZID=America/Denver:20241117T140000
DTSTAMP:20260422T160456
CREATED:20240216T192719Z
LAST-MODIFIED:20240320T153126Z
UID:10001480-1731848400-1731852000@goodgreenacres.com
SUMMARY:Volunteer Opportunities
DESCRIPTION:Donate your time at the farm\, and help us grow produce for our local food drive.
URL:https://goodgreenacres.com/event/volunteer-opportunities-2/2024-11-17/
LOCATION:Good Green Acres
ATTACH;FMTTYPE=image/jpeg:https://goodgreenacres.com/wp-content/uploads/2024/01/fmf_7wD8nAV.jpg
END:VEVENT
BEGIN:VEVENT
DTSTART;TZID=America/Denver:20241109T130000
DTEND;TZID=America/Denver:20241109T140000
DTSTAMP:20260422T160456
CREATED:20240216T192719Z
LAST-MODIFIED:20240320T153126Z
UID:10001477-1731157200-1731160800@goodgreenacres.com
SUMMARY:Volunteer Opportunities
DESCRIPTION:Donate your time at the farm\, and help us grow produce for our local food drive.
URL:https://goodgreenacres.com/event/volunteer-opportunities-2/2024-11-09/
LOCATION:Good Green Acres
ATTACH;FMTTYPE=image/jpeg:https://goodgreenacres.com/wp-content/uploads/2024/01/fmf_7wD8nAV.jpg
END:VEVENT
BEGIN:VEVENT
DTSTART;TZID=America/Denver:20241103T130000
DTEND;TZID=America/Denver:20241103T140000
DTSTAMP:20260422T160456
CREATED:20240216T192719Z
LAST-MODIFIED:20240320T153126Z
UID:10001476-1730638800-1730642400@goodgreenacres.com
SUMMARY:Volunteer Opportunities
DESCRIPTION:Donate your time at the farm\, and help us grow produce for our local food drive.
URL:https://goodgreenacres.com/event/volunteer-opportunities-2/2024-11-03/
LOCATION:Good Green Acres
ATTACH;FMTTYPE=image/jpeg:https://goodgreenacres.com/wp-content/uploads/2024/01/fmf_7wD8nAV.jpg
END:VEVENT
BEGIN:VEVENT
DTSTART;TZID=America/Denver:20241026T130000
DTEND;TZID=America/Denver:20241026T140000
DTSTAMP:20260422T160456
CREATED:20240216T192719Z
LAST-MODIFIED:20240320T153126Z
UID:10001473-1729947600-1729951200@goodgreenacres.com
SUMMARY:Volunteer Opportunities
DESCRIPTION:Donate your time at the farm\, and help us grow produce for our local food drive.
URL:https://goodgreenacres.com/event/volunteer-opportunities-2/2024-10-26/
LOCATION:Good Green Acres
ATTACH;FMTTYPE=image/jpeg:https://goodgreenacres.com/wp-content/uploads/2024/01/fmf_7wD8nAV.jpg
END:VEVENT
BEGIN:VEVENT
DTSTART;TZID=America/Denver:20241020T130000
DTEND;TZID=America/Denver:20241020T140000
DTSTAMP:20260422T160456
CREATED:20240216T192719Z
LAST-MODIFIED:20240320T153126Z
UID:10001472-1729429200-1729432800@goodgreenacres.com
SUMMARY:Volunteer Opportunities
DESCRIPTION:Donate your time at the farm\, and help us grow produce for our local food drive.
URL:https://goodgreenacres.com/event/volunteer-opportunities-2/2024-10-20/
LOCATION:Good Green Acres
ATTACH;FMTTYPE=image/jpeg:https://goodgreenacres.com/wp-content/uploads/2024/01/fmf_7wD8nAV.jpg
END:VEVENT
BEGIN:VEVENT
DTSTART;TZID=America/Denver:20241012T130000
DTEND;TZID=America/Denver:20241012T140000
DTSTAMP:20260422T160456
CREATED:20240216T192719Z
LAST-MODIFIED:20240320T153126Z
UID:10001469-1728738000-1728741600@goodgreenacres.com
SUMMARY:Volunteer Opportunities
DESCRIPTION:Donate your time at the farm\, and help us grow produce for our local food drive.
URL:https://goodgreenacres.com/event/volunteer-opportunities-2/2024-10-12/
LOCATION:Good Green Acres
ATTACH;FMTTYPE=image/jpeg:https://goodgreenacres.com/wp-content/uploads/2024/01/fmf_7wD8nAV.jpg
END:VEVENT
BEGIN:VEVENT
DTSTART;TZID=America/Denver:20241006T130000
DTEND;TZID=America/Denver:20241006T140000
DTSTAMP:20260422T160456
CREATED:20240216T192719Z
LAST-MODIFIED:20240320T153126Z
UID:10001468-1728219600-1728223200@goodgreenacres.com
SUMMARY:Volunteer Opportunities
DESCRIPTION:Donate your time at the farm\, and help us grow produce for our local food drive.
URL:https://goodgreenacres.com/event/volunteer-opportunities-2/2024-10-06/
LOCATION:Good Green Acres
ATTACH;FMTTYPE=image/jpeg:https://goodgreenacres.com/wp-content/uploads/2024/01/fmf_7wD8nAV.jpg
END:VEVENT
BEGIN:VEVENT
DTSTART;TZID=America/Denver:20240928T130000
DTEND;TZID=America/Denver:20240928T140000
DTSTAMP:20260422T160456
CREATED:20240216T192719Z
LAST-MODIFIED:20240320T153126Z
UID:10001465-1727528400-1727532000@goodgreenacres.com
SUMMARY:Volunteer Opportunities
DESCRIPTION:Donate your time at the farm\, and help us grow produce for our local food drive.
URL:https://goodgreenacres.com/event/volunteer-opportunities-2/2024-09-28/
LOCATION:Good Green Acres
ATTACH;FMTTYPE=image/jpeg:https://goodgreenacres.com/wp-content/uploads/2024/01/fmf_7wD8nAV.jpg
END:VEVENT
BEGIN:VEVENT
DTSTART;TZID=America/Denver:20240922T130000
DTEND;TZID=America/Denver:20240922T140000
DTSTAMP:20260422T160456
CREATED:20240216T192719Z
LAST-MODIFIED:20240320T153126Z
UID:10001464-1727010000-1727013600@goodgreenacres.com
SUMMARY:Volunteer Opportunities
DESCRIPTION:Donate your time at the farm\, and help us grow produce for our local food drive.
URL:https://goodgreenacres.com/event/volunteer-opportunities-2/2024-09-22/
LOCATION:Good Green Acres
ATTACH;FMTTYPE=image/jpeg:https://goodgreenacres.com/wp-content/uploads/2024/01/fmf_7wD8nAV.jpg
END:VEVENT
BEGIN:VEVENT
DTSTART;TZID=America/Denver:20240914T130000
DTEND;TZID=America/Denver:20240914T140000
DTSTAMP:20260422T160456
CREATED:20240216T192719Z
LAST-MODIFIED:20240320T153126Z
UID:10001461-1726318800-1726322400@goodgreenacres.com
SUMMARY:Volunteer Opportunities
DESCRIPTION:Donate your time at the farm\, and help us grow produce for our local food drive.
URL:https://goodgreenacres.com/event/volunteer-opportunities-2/2024-09-14/
LOCATION:Good Green Acres
ATTACH;FMTTYPE=image/jpeg:https://goodgreenacres.com/wp-content/uploads/2024/01/fmf_7wD8nAV.jpg
END:VEVENT
BEGIN:VEVENT
DTSTART;TZID=America/Denver:20240908T130000
DTEND;TZID=America/Denver:20240908T140000
DTSTAMP:20260422T160456
CREATED:20240216T192719Z
LAST-MODIFIED:20240320T153126Z
UID:10001460-1725800400-1725804000@goodgreenacres.com
SUMMARY:Volunteer Opportunities
DESCRIPTION:Donate your time at the farm\, and help us grow produce for our local food drive.
URL:https://goodgreenacres.com/event/volunteer-opportunities-2/2024-09-08/
LOCATION:Good Green Acres
ATTACH;FMTTYPE=image/jpeg:https://goodgreenacres.com/wp-content/uploads/2024/01/fmf_7wD8nAV.jpg
END:VEVENT
BEGIN:VEVENT
DTSTART;TZID=America/Denver:20240831T130000
DTEND;TZID=America/Denver:20240831T140000
DTSTAMP:20260422T160456
CREATED:20240216T192719Z
LAST-MODIFIED:20240320T153126Z
UID:10001457-1725109200-1725112800@goodgreenacres.com
SUMMARY:Volunteer Opportunities
DESCRIPTION:Donate your time at the farm\, and help us grow produce for our local food drive.
URL:https://goodgreenacres.com/event/volunteer-opportunities-2/2024-08-31/
LOCATION:Good Green Acres
ATTACH;FMTTYPE=image/jpeg:https://goodgreenacres.com/wp-content/uploads/2024/01/fmf_7wD8nAV.jpg
END:VEVENT
BEGIN:VEVENT
DTSTART;TZID=America/Denver:20240825T130000
DTEND;TZID=America/Denver:20240825T140000
DTSTAMP:20260422T160456
CREATED:20240216T192719Z
LAST-MODIFIED:20240320T153126Z
UID:10001456-1724590800-1724594400@goodgreenacres.com
SUMMARY:Volunteer Opportunities
DESCRIPTION:Donate your time at the farm\, and help us grow produce for our local food drive.
URL:https://goodgreenacres.com/event/volunteer-opportunities-2/2024-08-25/
LOCATION:Good Green Acres
ATTACH;FMTTYPE=image/jpeg:https://goodgreenacres.com/wp-content/uploads/2024/01/fmf_7wD8nAV.jpg
END:VEVENT
BEGIN:VEVENT
DTSTART;TZID=America/Denver:20240817T130000
DTEND;TZID=America/Denver:20240817T140000
DTSTAMP:20260422T160456
CREATED:20240216T192719Z
LAST-MODIFIED:20240320T153126Z
UID:10001453-1723899600-1723903200@goodgreenacres.com
SUMMARY:Volunteer Opportunities
DESCRIPTION:Donate your time at the farm\, and help us grow produce for our local food drive.
URL:https://goodgreenacres.com/event/volunteer-opportunities-2/2024-08-17/
LOCATION:Good Green Acres
ATTACH;FMTTYPE=image/jpeg:https://goodgreenacres.com/wp-content/uploads/2024/01/fmf_7wD8nAV.jpg
END:VEVENT
BEGIN:VEVENT
DTSTART;TZID=America/Denver:20240811T130000
DTEND;TZID=America/Denver:20240811T140000
DTSTAMP:20260422T160456
CREATED:20240216T192719Z
LAST-MODIFIED:20240320T153126Z
UID:10001452-1723381200-1723384800@goodgreenacres.com
SUMMARY:Volunteer Opportunities
DESCRIPTION:Donate your time at the farm\, and help us grow produce for our local food drive.
URL:https://goodgreenacres.com/event/volunteer-opportunities-2/2024-08-11/
LOCATION:Good Green Acres
ATTACH;FMTTYPE=image/jpeg:https://goodgreenacres.com/wp-content/uploads/2024/01/fmf_7wD8nAV.jpg
END:VEVENT
BEGIN:VEVENT
DTSTART;TZID=America/Denver:20240803T130000
DTEND;TZID=America/Denver:20240803T140000
DTSTAMP:20260422T160456
CREATED:20240216T192719Z
LAST-MODIFIED:20240320T153126Z
UID:10001449-1722690000-1722693600@goodgreenacres.com
SUMMARY:Volunteer Opportunities
DESCRIPTION:Donate your time at the farm\, and help us grow produce for our local food drive.
URL:https://goodgreenacres.com/event/volunteer-opportunities-2/2024-08-03/
LOCATION:Good Green Acres
ATTACH;FMTTYPE=image/jpeg:https://goodgreenacres.com/wp-content/uploads/2024/01/fmf_7wD8nAV.jpg
END:VEVENT
END:VCALENDAR