BEGIN:VCALENDAR
VERSION:2.0
PRODID:-//Good Green Acres - ECPv6.15.20//NONSGML v1.0//EN
CALSCALE:GREGORIAN
METHOD:PUBLISH
X-ORIGINAL-URL:https://goodgreenacres.com
X-WR-CALDESC:Events for Good Green Acres
REFRESH-INTERVAL;VALUE=DURATION:PT1H
X-Robots-Tag:noindex
X-PUBLISHED-TTL:PT1H
BEGIN:VTIMEZONE
TZID:America/Denver
BEGIN:DAYLIGHT
TZOFFSETFROM:-0700
TZOFFSETTO:-0600
TZNAME:MDT
DTSTART:20240310T090000
END:DAYLIGHT
BEGIN:STANDARD
TZOFFSETFROM:-0600
TZOFFSETTO:-0700
TZNAME:MST
DTSTART:20241103T080000
END:STANDARD
BEGIN:DAYLIGHT
TZOFFSETFROM:-0700
TZOFFSETTO:-0600
TZNAME:MDT
DTSTART:20250309T090000
END:DAYLIGHT
BEGIN:STANDARD
TZOFFSETFROM:-0600
TZOFFSETTO:-0700
TZNAME:MST
DTSTART:20251102T080000
END:STANDARD
BEGIN:DAYLIGHT
TZOFFSETFROM:-0700
TZOFFSETTO:-0600
TZNAME:MDT
DTSTART:20260308T090000
END:DAYLIGHT
BEGIN:STANDARD
TZOFFSETFROM:-0600
TZOFFSETTO:-0700
TZNAME:MST
DTSTART:20261101T080000
END:STANDARD
END:VTIMEZONE
BEGIN:VEVENT
DTSTART;TZID=America/Denver:20250601T130000
DTEND;TZID=America/Denver:20250601T140000
DTSTAMP:20260422T161451
CREATED:20240216T192719Z
LAST-MODIFIED:20240320T153126Z
UID:10001536-1748782800-1748786400@goodgreenacres.com
SUMMARY:Volunteer Opportunities
DESCRIPTION:Donate your time at the farm\, and help us grow produce for our local food drive.
URL:https://goodgreenacres.com/event/volunteer-opportunities-2/2025-06-01/
LOCATION:Good Green Acres
ATTACH;FMTTYPE=image/jpeg:https://goodgreenacres.com/wp-content/uploads/2024/01/fmf_7wD8nAV.jpg
END:VEVENT
BEGIN:VEVENT
DTSTART;TZID=America/Denver:20250607T130000
DTEND;TZID=America/Denver:20250607T140000
DTSTAMP:20260422T161451
CREATED:20240216T192719Z
LAST-MODIFIED:20240320T153126Z
UID:10001537-1749301200-1749304800@goodgreenacres.com
SUMMARY:Volunteer Opportunities
DESCRIPTION:Donate your time at the farm\, and help us grow produce for our local food drive.
URL:https://goodgreenacres.com/event/volunteer-opportunities-2/2025-06-07/
LOCATION:Good Green Acres
ATTACH;FMTTYPE=image/jpeg:https://goodgreenacres.com/wp-content/uploads/2024/01/fmf_7wD8nAV.jpg
END:VEVENT
BEGIN:VEVENT
DTSTART;TZID=America/Denver:20250615T130000
DTEND;TZID=America/Denver:20250615T140000
DTSTAMP:20260422T161451
CREATED:20240216T192719Z
LAST-MODIFIED:20240320T153126Z
UID:10001540-1749992400-1749996000@goodgreenacres.com
SUMMARY:Volunteer Opportunities
DESCRIPTION:Donate your time at the farm\, and help us grow produce for our local food drive.
URL:https://goodgreenacres.com/event/volunteer-opportunities-2/2025-06-15/
LOCATION:Good Green Acres
ATTACH;FMTTYPE=image/jpeg:https://goodgreenacres.com/wp-content/uploads/2024/01/fmf_7wD8nAV.jpg
END:VEVENT
BEGIN:VEVENT
DTSTART;TZID=America/Denver:20250621T130000
DTEND;TZID=America/Denver:20250621T140000
DTSTAMP:20260422T161451
CREATED:20240216T192719Z
LAST-MODIFIED:20240320T153126Z
UID:10001541-1750510800-1750514400@goodgreenacres.com
SUMMARY:Volunteer Opportunities
DESCRIPTION:Donate your time at the farm\, and help us grow produce for our local food drive.
URL:https://goodgreenacres.com/event/volunteer-opportunities-2/2025-06-21/
LOCATION:Good Green Acres
ATTACH;FMTTYPE=image/jpeg:https://goodgreenacres.com/wp-content/uploads/2024/01/fmf_7wD8nAV.jpg
END:VEVENT
BEGIN:VEVENT
DTSTART;TZID=America/Denver:20250629T130000
DTEND;TZID=America/Denver:20250629T140000
DTSTAMP:20260422T161451
CREATED:20240216T192719Z
LAST-MODIFIED:20240320T153126Z
UID:10001544-1751202000-1751205600@goodgreenacres.com
SUMMARY:Volunteer Opportunities
DESCRIPTION:Donate your time at the farm\, and help us grow produce for our local food drive.
URL:https://goodgreenacres.com/event/volunteer-opportunities-2/2025-06-29/
LOCATION:Good Green Acres
ATTACH;FMTTYPE=image/jpeg:https://goodgreenacres.com/wp-content/uploads/2024/01/fmf_7wD8nAV.jpg
END:VEVENT
END:VCALENDAR