BEGIN:VCALENDAR
VERSION:2.0
PRODID:-//Good Green Acres - ECPv6.15.20//NONSGML v1.0//EN
CALSCALE:GREGORIAN
METHOD:PUBLISH
X-WR-CALNAME:Good Green Acres
X-ORIGINAL-URL:https://goodgreenacres.com
X-WR-CALDESC:Events for Good Green Acres
REFRESH-INTERVAL;VALUE=DURATION:PT1H
X-Robots-Tag:noindex
X-PUBLISHED-TTL:PT1H
BEGIN:VTIMEZONE
TZID:America/Denver
BEGIN:DAYLIGHT
TZOFFSETFROM:-0700
TZOFFSETTO:-0600
TZNAME:MDT
DTSTART:20260308T090000
END:DAYLIGHT
BEGIN:STANDARD
TZOFFSETFROM:-0600
TZOFFSETTO:-0700
TZNAME:MST
DTSTART:20261101T080000
END:STANDARD
BEGIN:DAYLIGHT
TZOFFSETFROM:-0700
TZOFFSETTO:-0600
TZNAME:MDT
DTSTART:20270314T090000
END:DAYLIGHT
BEGIN:STANDARD
TZOFFSETFROM:-0600
TZOFFSETTO:-0700
TZNAME:MST
DTSTART:20271107T080000
END:STANDARD
BEGIN:DAYLIGHT
TZOFFSETFROM:-0700
TZOFFSETTO:-0600
TZNAME:MDT
DTSTART:20280312T090000
END:DAYLIGHT
BEGIN:STANDARD
TZOFFSETFROM:-0600
TZOFFSETTO:-0700
TZNAME:MST
DTSTART:20281105T080000
END:STANDARD
END:VTIMEZONE
BEGIN:VEVENT
DTSTART;TZID=America/Denver:20270213T130000
DTEND;TZID=America/Denver:20270213T140000
DTSTAMP:20260422T162856
CREATED:20240216T192719Z
LAST-MODIFIED:20240320T153126Z
UID:10001713-1802523600-1802527200@goodgreenacres.com
SUMMARY:Volunteer Opportunities
DESCRIPTION:Donate your time at the farm\, and help us grow produce for our local food drive.
URL:https://goodgreenacres.com/event/volunteer-opportunities-2/2027-02-13/
LOCATION:Good Green Acres
ATTACH;FMTTYPE=image/jpeg:https://goodgreenacres.com/wp-content/uploads/2024/01/fmf_7wD8nAV.jpg
END:VEVENT
BEGIN:VEVENT
DTSTART;TZID=America/Denver:20270221T130000
DTEND;TZID=America/Denver:20270221T140000
DTSTAMP:20260422T162856
CREATED:20240216T192719Z
LAST-MODIFIED:20240320T153126Z
UID:10001716-1803214800-1803218400@goodgreenacres.com
SUMMARY:Volunteer Opportunities
DESCRIPTION:Donate your time at the farm\, and help us grow produce for our local food drive.
URL:https://goodgreenacres.com/event/volunteer-opportunities-2/2027-02-21/
LOCATION:Good Green Acres
ATTACH;FMTTYPE=image/jpeg:https://goodgreenacres.com/wp-content/uploads/2024/01/fmf_7wD8nAV.jpg
END:VEVENT
BEGIN:VEVENT
DTSTART;TZID=America/Denver:20270227T130000
DTEND;TZID=America/Denver:20270227T140000
DTSTAMP:20260422T162856
CREATED:20240216T192719Z
LAST-MODIFIED:20240320T153126Z
UID:10001717-1803733200-1803736800@goodgreenacres.com
SUMMARY:Volunteer Opportunities
DESCRIPTION:Donate your time at the farm\, and help us grow produce for our local food drive.
URL:https://goodgreenacres.com/event/volunteer-opportunities-2/2027-02-27/
LOCATION:Good Green Acres
ATTACH;FMTTYPE=image/jpeg:https://goodgreenacres.com/wp-content/uploads/2024/01/fmf_7wD8nAV.jpg
END:VEVENT
BEGIN:VEVENT
DTSTART;TZID=America/Denver:20270307T130000
DTEND;TZID=America/Denver:20270307T140000
DTSTAMP:20260422T162856
CREATED:20240216T192719Z
LAST-MODIFIED:20240320T153126Z
UID:10001720-1804424400-1804428000@goodgreenacres.com
SUMMARY:Volunteer Opportunities
DESCRIPTION:Donate your time at the farm\, and help us grow produce for our local food drive.
URL:https://goodgreenacres.com/event/volunteer-opportunities-2/2027-03-07/
LOCATION:Good Green Acres
ATTACH;FMTTYPE=image/jpeg:https://goodgreenacres.com/wp-content/uploads/2024/01/fmf_7wD8nAV.jpg
END:VEVENT
BEGIN:VEVENT
DTSTART;TZID=America/Denver:20270313T130000
DTEND;TZID=America/Denver:20270313T140000
DTSTAMP:20260422T162856
CREATED:20240216T192719Z
LAST-MODIFIED:20240320T153126Z
UID:10001721-1804942800-1804946400@goodgreenacres.com
SUMMARY:Volunteer Opportunities
DESCRIPTION:Donate your time at the farm\, and help us grow produce for our local food drive.
URL:https://goodgreenacres.com/event/volunteer-opportunities-2/2027-03-13/
LOCATION:Good Green Acres
ATTACH;FMTTYPE=image/jpeg:https://goodgreenacres.com/wp-content/uploads/2024/01/fmf_7wD8nAV.jpg
END:VEVENT
BEGIN:VEVENT
DTSTART;TZID=America/Denver:20270321T130000
DTEND;TZID=America/Denver:20270321T140000
DTSTAMP:20260422T162856
CREATED:20240216T192719Z
LAST-MODIFIED:20240320T153126Z
UID:10001724-1805634000-1805637600@goodgreenacres.com
SUMMARY:Volunteer Opportunities
DESCRIPTION:Donate your time at the farm\, and help us grow produce for our local food drive.
URL:https://goodgreenacres.com/event/volunteer-opportunities-2/2027-03-21/
LOCATION:Good Green Acres
ATTACH;FMTTYPE=image/jpeg:https://goodgreenacres.com/wp-content/uploads/2024/01/fmf_7wD8nAV.jpg
END:VEVENT
BEGIN:VEVENT
DTSTART;TZID=America/Denver:20270327T130000
DTEND;TZID=America/Denver:20270327T140000
DTSTAMP:20260422T162856
CREATED:20240216T192719Z
LAST-MODIFIED:20240320T153126Z
UID:10001725-1806152400-1806156000@goodgreenacres.com
SUMMARY:Volunteer Opportunities
DESCRIPTION:Donate your time at the farm\, and help us grow produce for our local food drive.
URL:https://goodgreenacres.com/event/volunteer-opportunities-2/2027-03-27/
LOCATION:Good Green Acres
ATTACH;FMTTYPE=image/jpeg:https://goodgreenacres.com/wp-content/uploads/2024/01/fmf_7wD8nAV.jpg
END:VEVENT
BEGIN:VEVENT
DTSTART;TZID=America/Denver:20270404T130000
DTEND;TZID=America/Denver:20270404T140000
DTSTAMP:20260422T162856
CREATED:20240216T192719Z
LAST-MODIFIED:20240320T153126Z
UID:10001728-1806843600-1806847200@goodgreenacres.com
SUMMARY:Volunteer Opportunities
DESCRIPTION:Donate your time at the farm\, and help us grow produce for our local food drive.
URL:https://goodgreenacres.com/event/volunteer-opportunities-2/2027-04-04/
LOCATION:Good Green Acres
ATTACH;FMTTYPE=image/jpeg:https://goodgreenacres.com/wp-content/uploads/2024/01/fmf_7wD8nAV.jpg
END:VEVENT
BEGIN:VEVENT
DTSTART;TZID=America/Denver:20270410T130000
DTEND;TZID=America/Denver:20270410T140000
DTSTAMP:20260422T162856
CREATED:20240216T192719Z
LAST-MODIFIED:20240320T153126Z
UID:10001729-1807362000-1807365600@goodgreenacres.com
SUMMARY:Volunteer Opportunities
DESCRIPTION:Donate your time at the farm\, and help us grow produce for our local food drive.
URL:https://goodgreenacres.com/event/volunteer-opportunities-2/2027-04-10/
LOCATION:Good Green Acres
ATTACH;FMTTYPE=image/jpeg:https://goodgreenacres.com/wp-content/uploads/2024/01/fmf_7wD8nAV.jpg
END:VEVENT
BEGIN:VEVENT
DTSTART;TZID=America/Denver:20270418T130000
DTEND;TZID=America/Denver:20270418T140000
DTSTAMP:20260422T162856
CREATED:20240216T192719Z
LAST-MODIFIED:20240320T153126Z
UID:10001732-1808053200-1808056800@goodgreenacres.com
SUMMARY:Volunteer Opportunities
DESCRIPTION:Donate your time at the farm\, and help us grow produce for our local food drive.
URL:https://goodgreenacres.com/event/volunteer-opportunities-2/2027-04-18/
LOCATION:Good Green Acres
ATTACH;FMTTYPE=image/jpeg:https://goodgreenacres.com/wp-content/uploads/2024/01/fmf_7wD8nAV.jpg
END:VEVENT
BEGIN:VEVENT
DTSTART;TZID=America/Denver:20270424T130000
DTEND;TZID=America/Denver:20270424T140000
DTSTAMP:20260422T162856
CREATED:20240216T192719Z
LAST-MODIFIED:20240320T153126Z
UID:10001733-1808571600-1808575200@goodgreenacres.com
SUMMARY:Volunteer Opportunities
DESCRIPTION:Donate your time at the farm\, and help us grow produce for our local food drive.
URL:https://goodgreenacres.com/event/volunteer-opportunities-2/2027-04-24/
LOCATION:Good Green Acres
ATTACH;FMTTYPE=image/jpeg:https://goodgreenacres.com/wp-content/uploads/2024/01/fmf_7wD8nAV.jpg
END:VEVENT
BEGIN:VEVENT
DTSTART;TZID=America/Denver:20270502T130000
DTEND;TZID=America/Denver:20270502T140000
DTSTAMP:20260422T162856
CREATED:20240216T192719Z
LAST-MODIFIED:20240320T153126Z
UID:10001736-1809262800-1809266400@goodgreenacres.com
SUMMARY:Volunteer Opportunities
DESCRIPTION:Donate your time at the farm\, and help us grow produce for our local food drive.
URL:https://goodgreenacres.com/event/volunteer-opportunities-2/2027-05-02/
LOCATION:Good Green Acres
ATTACH;FMTTYPE=image/jpeg:https://goodgreenacres.com/wp-content/uploads/2024/01/fmf_7wD8nAV.jpg
END:VEVENT
BEGIN:VEVENT
DTSTART;TZID=America/Denver:20270508T130000
DTEND;TZID=America/Denver:20270508T140000
DTSTAMP:20260422T162856
CREATED:20240216T192719Z
LAST-MODIFIED:20240320T153126Z
UID:10001737-1809781200-1809784800@goodgreenacres.com
SUMMARY:Volunteer Opportunities
DESCRIPTION:Donate your time at the farm\, and help us grow produce for our local food drive.
URL:https://goodgreenacres.com/event/volunteer-opportunities-2/2027-05-08/
LOCATION:Good Green Acres
ATTACH;FMTTYPE=image/jpeg:https://goodgreenacres.com/wp-content/uploads/2024/01/fmf_7wD8nAV.jpg
END:VEVENT
BEGIN:VEVENT
DTSTART;TZID=America/Denver:20270516T130000
DTEND;TZID=America/Denver:20270516T140000
DTSTAMP:20260422T162856
CREATED:20240216T192719Z
LAST-MODIFIED:20240320T153126Z
UID:10001740-1810472400-1810476000@goodgreenacres.com
SUMMARY:Volunteer Opportunities
DESCRIPTION:Donate your time at the farm\, and help us grow produce for our local food drive.
URL:https://goodgreenacres.com/event/volunteer-opportunities-2/2027-05-16/
LOCATION:Good Green Acres
ATTACH;FMTTYPE=image/jpeg:https://goodgreenacres.com/wp-content/uploads/2024/01/fmf_7wD8nAV.jpg
END:VEVENT
BEGIN:VEVENT
DTSTART;TZID=America/Denver:20270522T130000
DTEND;TZID=America/Denver:20270522T140000
DTSTAMP:20260422T162856
CREATED:20240216T192719Z
LAST-MODIFIED:20240320T153126Z
UID:10001741-1810990800-1810994400@goodgreenacres.com
SUMMARY:Volunteer Opportunities
DESCRIPTION:Donate your time at the farm\, and help us grow produce for our local food drive.
URL:https://goodgreenacres.com/event/volunteer-opportunities-2/2027-05-22/
LOCATION:Good Green Acres
ATTACH;FMTTYPE=image/jpeg:https://goodgreenacres.com/wp-content/uploads/2024/01/fmf_7wD8nAV.jpg
END:VEVENT
BEGIN:VEVENT
DTSTART;TZID=America/Denver:20270530T130000
DTEND;TZID=America/Denver:20270530T140000
DTSTAMP:20260422T162856
CREATED:20240216T192719Z
LAST-MODIFIED:20240320T153126Z
UID:10001744-1811682000-1811685600@goodgreenacres.com
SUMMARY:Volunteer Opportunities
DESCRIPTION:Donate your time at the farm\, and help us grow produce for our local food drive.
URL:https://goodgreenacres.com/event/volunteer-opportunities-2/2027-05-30/
LOCATION:Good Green Acres
ATTACH;FMTTYPE=image/jpeg:https://goodgreenacres.com/wp-content/uploads/2024/01/fmf_7wD8nAV.jpg
END:VEVENT
BEGIN:VEVENT
DTSTART;TZID=America/Denver:20270605T130000
DTEND;TZID=America/Denver:20270605T140000
DTSTAMP:20260422T162856
CREATED:20240216T192719Z
LAST-MODIFIED:20240320T153126Z
UID:10001745-1812200400-1812204000@goodgreenacres.com
SUMMARY:Volunteer Opportunities
DESCRIPTION:Donate your time at the farm\, and help us grow produce for our local food drive.
URL:https://goodgreenacres.com/event/volunteer-opportunities-2/2027-06-05/
LOCATION:Good Green Acres
ATTACH;FMTTYPE=image/jpeg:https://goodgreenacres.com/wp-content/uploads/2024/01/fmf_7wD8nAV.jpg
END:VEVENT
BEGIN:VEVENT
DTSTART;TZID=America/Denver:20270613T130000
DTEND;TZID=America/Denver:20270613T140000
DTSTAMP:20260422T162856
CREATED:20240216T192719Z
LAST-MODIFIED:20240320T153126Z
UID:10001748-1812891600-1812895200@goodgreenacres.com
SUMMARY:Volunteer Opportunities
DESCRIPTION:Donate your time at the farm\, and help us grow produce for our local food drive.
URL:https://goodgreenacres.com/event/volunteer-opportunities-2/2027-06-13/
LOCATION:Good Green Acres
ATTACH;FMTTYPE=image/jpeg:https://goodgreenacres.com/wp-content/uploads/2024/01/fmf_7wD8nAV.jpg
END:VEVENT
BEGIN:VEVENT
DTSTART;TZID=America/Denver:20270619T130000
DTEND;TZID=America/Denver:20270619T140000
DTSTAMP:20260422T162856
CREATED:20240216T192719Z
LAST-MODIFIED:20240320T153126Z
UID:10001749-1813410000-1813413600@goodgreenacres.com
SUMMARY:Volunteer Opportunities
DESCRIPTION:Donate your time at the farm\, and help us grow produce for our local food drive.
URL:https://goodgreenacres.com/event/volunteer-opportunities-2/2027-06-19/
LOCATION:Good Green Acres
ATTACH;FMTTYPE=image/jpeg:https://goodgreenacres.com/wp-content/uploads/2024/01/fmf_7wD8nAV.jpg
END:VEVENT
BEGIN:VEVENT
DTSTART;TZID=America/Denver:20270627T130000
DTEND;TZID=America/Denver:20270627T140000
DTSTAMP:20260422T162856
CREATED:20240216T192719Z
LAST-MODIFIED:20240320T153126Z
UID:10001752-1814101200-1814104800@goodgreenacres.com
SUMMARY:Volunteer Opportunities
DESCRIPTION:Donate your time at the farm\, and help us grow produce for our local food drive.
URL:https://goodgreenacres.com/event/volunteer-opportunities-2/2027-06-27/
LOCATION:Good Green Acres
ATTACH;FMTTYPE=image/jpeg:https://goodgreenacres.com/wp-content/uploads/2024/01/fmf_7wD8nAV.jpg
END:VEVENT
BEGIN:VEVENT
DTSTART;TZID=America/Denver:20270703T130000
DTEND;TZID=America/Denver:20270703T140000
DTSTAMP:20260422T162856
CREATED:20240216T192719Z
LAST-MODIFIED:20240320T153126Z
UID:10001753-1814619600-1814623200@goodgreenacres.com
SUMMARY:Volunteer Opportunities
DESCRIPTION:Donate your time at the farm\, and help us grow produce for our local food drive.
URL:https://goodgreenacres.com/event/volunteer-opportunities-2/2027-07-03/
LOCATION:Good Green Acres
ATTACH;FMTTYPE=image/jpeg:https://goodgreenacres.com/wp-content/uploads/2024/01/fmf_7wD8nAV.jpg
END:VEVENT
BEGIN:VEVENT
DTSTART;TZID=America/Denver:20270711T130000
DTEND;TZID=America/Denver:20270711T140000
DTSTAMP:20260422T162856
CREATED:20240216T192719Z
LAST-MODIFIED:20240320T153126Z
UID:10001756-1815310800-1815314400@goodgreenacres.com
SUMMARY:Volunteer Opportunities
DESCRIPTION:Donate your time at the farm\, and help us grow produce for our local food drive.
URL:https://goodgreenacres.com/event/volunteer-opportunities-2/2027-07-11/
LOCATION:Good Green Acres
ATTACH;FMTTYPE=image/jpeg:https://goodgreenacres.com/wp-content/uploads/2024/01/fmf_7wD8nAV.jpg
END:VEVENT
BEGIN:VEVENT
DTSTART;TZID=America/Denver:20270717T130000
DTEND;TZID=America/Denver:20270717T140000
DTSTAMP:20260422T162856
CREATED:20240216T192719Z
LAST-MODIFIED:20240320T153126Z
UID:10001757-1815829200-1815832800@goodgreenacres.com
SUMMARY:Volunteer Opportunities
DESCRIPTION:Donate your time at the farm\, and help us grow produce for our local food drive.
URL:https://goodgreenacres.com/event/volunteer-opportunities-2/2027-07-17/
LOCATION:Good Green Acres
ATTACH;FMTTYPE=image/jpeg:https://goodgreenacres.com/wp-content/uploads/2024/01/fmf_7wD8nAV.jpg
END:VEVENT
BEGIN:VEVENT
DTSTART;TZID=America/Denver:20270725T130000
DTEND;TZID=America/Denver:20270725T140000
DTSTAMP:20260422T162856
CREATED:20240216T192719Z
LAST-MODIFIED:20240320T153126Z
UID:10001760-1816520400-1816524000@goodgreenacres.com
SUMMARY:Volunteer Opportunities
DESCRIPTION:Donate your time at the farm\, and help us grow produce for our local food drive.
URL:https://goodgreenacres.com/event/volunteer-opportunities-2/2027-07-25/
LOCATION:Good Green Acres
ATTACH;FMTTYPE=image/jpeg:https://goodgreenacres.com/wp-content/uploads/2024/01/fmf_7wD8nAV.jpg
END:VEVENT
BEGIN:VEVENT
DTSTART;TZID=America/Denver:20270731T130000
DTEND;TZID=America/Denver:20270731T140000
DTSTAMP:20260422T162856
CREATED:20240216T192719Z
LAST-MODIFIED:20240320T153126Z
UID:10001761-1817038800-1817042400@goodgreenacres.com
SUMMARY:Volunteer Opportunities
DESCRIPTION:Donate your time at the farm\, and help us grow produce for our local food drive.
URL:https://goodgreenacres.com/event/volunteer-opportunities-2/2027-07-31/
LOCATION:Good Green Acres
ATTACH;FMTTYPE=image/jpeg:https://goodgreenacres.com/wp-content/uploads/2024/01/fmf_7wD8nAV.jpg
END:VEVENT
BEGIN:VEVENT
DTSTART;TZID=America/Denver:20270808T130000
DTEND;TZID=America/Denver:20270808T140000
DTSTAMP:20260422T162856
CREATED:20240216T192719Z
LAST-MODIFIED:20240320T153126Z
UID:10001764-1817730000-1817733600@goodgreenacres.com
SUMMARY:Volunteer Opportunities
DESCRIPTION:Donate your time at the farm\, and help us grow produce for our local food drive.
URL:https://goodgreenacres.com/event/volunteer-opportunities-2/2027-08-08/
LOCATION:Good Green Acres
ATTACH;FMTTYPE=image/jpeg:https://goodgreenacres.com/wp-content/uploads/2024/01/fmf_7wD8nAV.jpg
END:VEVENT
BEGIN:VEVENT
DTSTART;TZID=America/Denver:20270814T130000
DTEND;TZID=America/Denver:20270814T140000
DTSTAMP:20260422T162856
CREATED:20240216T192719Z
LAST-MODIFIED:20240320T153126Z
UID:10001765-1818248400-1818252000@goodgreenacres.com
SUMMARY:Volunteer Opportunities
DESCRIPTION:Donate your time at the farm\, and help us grow produce for our local food drive.
URL:https://goodgreenacres.com/event/volunteer-opportunities-2/2027-08-14/
LOCATION:Good Green Acres
ATTACH;FMTTYPE=image/jpeg:https://goodgreenacres.com/wp-content/uploads/2024/01/fmf_7wD8nAV.jpg
END:VEVENT
BEGIN:VEVENT
DTSTART;TZID=America/Denver:20270822T130000
DTEND;TZID=America/Denver:20270822T140000
DTSTAMP:20260422T162856
CREATED:20240216T192719Z
LAST-MODIFIED:20240320T153126Z
UID:10001768-1818939600-1818943200@goodgreenacres.com
SUMMARY:Volunteer Opportunities
DESCRIPTION:Donate your time at the farm\, and help us grow produce for our local food drive.
URL:https://goodgreenacres.com/event/volunteer-opportunities-2/2027-08-22/
LOCATION:Good Green Acres
ATTACH;FMTTYPE=image/jpeg:https://goodgreenacres.com/wp-content/uploads/2024/01/fmf_7wD8nAV.jpg
END:VEVENT
BEGIN:VEVENT
DTSTART;TZID=America/Denver:20270828T130000
DTEND;TZID=America/Denver:20270828T140000
DTSTAMP:20260422T162856
CREATED:20240216T192719Z
LAST-MODIFIED:20240320T153126Z
UID:10001769-1819458000-1819461600@goodgreenacres.com
SUMMARY:Volunteer Opportunities
DESCRIPTION:Donate your time at the farm\, and help us grow produce for our local food drive.
URL:https://goodgreenacres.com/event/volunteer-opportunities-2/2027-08-28/
LOCATION:Good Green Acres
ATTACH;FMTTYPE=image/jpeg:https://goodgreenacres.com/wp-content/uploads/2024/01/fmf_7wD8nAV.jpg
END:VEVENT
BEGIN:VEVENT
DTSTART;TZID=America/Denver:20270905T130000
DTEND;TZID=America/Denver:20270905T140000
DTSTAMP:20260422T162856
CREATED:20240216T192719Z
LAST-MODIFIED:20240320T153126Z
UID:10001772-1820149200-1820152800@goodgreenacres.com
SUMMARY:Volunteer Opportunities
DESCRIPTION:Donate your time at the farm\, and help us grow produce for our local food drive.
URL:https://goodgreenacres.com/event/volunteer-opportunities-2/2027-09-05/
LOCATION:Good Green Acres
ATTACH;FMTTYPE=image/jpeg:https://goodgreenacres.com/wp-content/uploads/2024/01/fmf_7wD8nAV.jpg
END:VEVENT
END:VCALENDAR