BEGIN:VCALENDAR
VERSION:2.0
PRODID:-//Good Green Acres - ECPv6.15.20//NONSGML v1.0//EN
CALSCALE:GREGORIAN
METHOD:PUBLISH
X-ORIGINAL-URL:https://goodgreenacres.com
X-WR-CALDESC:Events for Good Green Acres
REFRESH-INTERVAL;VALUE=DURATION:PT1H
X-Robots-Tag:noindex
X-PUBLISHED-TTL:PT1H
BEGIN:VTIMEZONE
TZID:America/Denver
BEGIN:DAYLIGHT
TZOFFSETFROM:-0700
TZOFFSETTO:-0600
TZNAME:MDT
DTSTART:20270314T090000
END:DAYLIGHT
BEGIN:STANDARD
TZOFFSETFROM:-0600
TZOFFSETTO:-0700
TZNAME:MST
DTSTART:20271107T080000
END:STANDARD
BEGIN:DAYLIGHT
TZOFFSETFROM:-0700
TZOFFSETTO:-0600
TZNAME:MDT
DTSTART:20280312T090000
END:DAYLIGHT
BEGIN:STANDARD
TZOFFSETFROM:-0600
TZOFFSETTO:-0700
TZNAME:MST
DTSTART:20281105T080000
END:STANDARD
BEGIN:DAYLIGHT
TZOFFSETFROM:-0700
TZOFFSETTO:-0600
TZNAME:MDT
DTSTART:20290311T090000
END:DAYLIGHT
BEGIN:STANDARD
TZOFFSETFROM:-0600
TZOFFSETTO:-0700
TZNAME:MST
DTSTART:20291104T080000
END:STANDARD
END:VTIMEZONE
BEGIN:VEVENT
DTSTART;TZID=America/Denver:20280520T130000
DTEND;TZID=America/Denver:20280520T140000
DTSTAMP:20260422T162228
CREATED:20240216T192719Z
LAST-MODIFIED:20240320T153126Z
UID:10001845-1842440400-1842444000@goodgreenacres.com
SUMMARY:Volunteer Opportunities
DESCRIPTION:Donate your time at the farm\, and help us grow produce for our local food drive.
URL:https://goodgreenacres.com/event/volunteer-opportunities-2/2028-05-20/
LOCATION:Good Green Acres
ATTACH;FMTTYPE=image/jpeg:https://goodgreenacres.com/wp-content/uploads/2024/01/fmf_7wD8nAV.jpg
END:VEVENT
BEGIN:VEVENT
DTSTART;TZID=America/Denver:20280528T130000
DTEND;TZID=America/Denver:20280528T140000
DTSTAMP:20260422T162228
CREATED:20240216T192719Z
LAST-MODIFIED:20240320T153126Z
UID:10001848-1843131600-1843135200@goodgreenacres.com
SUMMARY:Volunteer Opportunities
DESCRIPTION:Donate your time at the farm\, and help us grow produce for our local food drive.
URL:https://goodgreenacres.com/event/volunteer-opportunities-2/2028-05-28/
LOCATION:Good Green Acres
ATTACH;FMTTYPE=image/jpeg:https://goodgreenacres.com/wp-content/uploads/2024/01/fmf_7wD8nAV.jpg
END:VEVENT
BEGIN:VEVENT
DTSTART;TZID=America/Denver:20280603T130000
DTEND;TZID=America/Denver:20280603T140000
DTSTAMP:20260422T162228
CREATED:20240216T192719Z
LAST-MODIFIED:20240320T153126Z
UID:10001849-1843650000-1843653600@goodgreenacres.com
SUMMARY:Volunteer Opportunities
DESCRIPTION:Donate your time at the farm\, and help us grow produce for our local food drive.
URL:https://goodgreenacres.com/event/volunteer-opportunities-2/2028-06-03/
LOCATION:Good Green Acres
ATTACH;FMTTYPE=image/jpeg:https://goodgreenacres.com/wp-content/uploads/2024/01/fmf_7wD8nAV.jpg
END:VEVENT
BEGIN:VEVENT
DTSTART;TZID=America/Denver:20280611T130000
DTEND;TZID=America/Denver:20280611T140000
DTSTAMP:20260422T162228
CREATED:20240216T192719Z
LAST-MODIFIED:20240320T153126Z
UID:10001852-1844341200-1844344800@goodgreenacres.com
SUMMARY:Volunteer Opportunities
DESCRIPTION:Donate your time at the farm\, and help us grow produce for our local food drive.
URL:https://goodgreenacres.com/event/volunteer-opportunities-2/2028-06-11/
LOCATION:Good Green Acres
ATTACH;FMTTYPE=image/jpeg:https://goodgreenacres.com/wp-content/uploads/2024/01/fmf_7wD8nAV.jpg
END:VEVENT
BEGIN:VEVENT
DTSTART;TZID=America/Denver:20280617T130000
DTEND;TZID=America/Denver:20280617T140000
DTSTAMP:20260422T162228
CREATED:20240216T192719Z
LAST-MODIFIED:20240320T153126Z
UID:10001853-1844859600-1844863200@goodgreenacres.com
SUMMARY:Volunteer Opportunities
DESCRIPTION:Donate your time at the farm\, and help us grow produce for our local food drive.
URL:https://goodgreenacres.com/event/volunteer-opportunities-2/2028-06-17/
LOCATION:Good Green Acres
ATTACH;FMTTYPE=image/jpeg:https://goodgreenacres.com/wp-content/uploads/2024/01/fmf_7wD8nAV.jpg
END:VEVENT
BEGIN:VEVENT
DTSTART;TZID=America/Denver:20280625T130000
DTEND;TZID=America/Denver:20280625T140000
DTSTAMP:20260422T162228
CREATED:20240216T192719Z
LAST-MODIFIED:20240320T153126Z
UID:10001856-1845550800-1845554400@goodgreenacres.com
SUMMARY:Volunteer Opportunities
DESCRIPTION:Donate your time at the farm\, and help us grow produce for our local food drive.
URL:https://goodgreenacres.com/event/volunteer-opportunities-2/2028-06-25/
LOCATION:Good Green Acres
ATTACH;FMTTYPE=image/jpeg:https://goodgreenacres.com/wp-content/uploads/2024/01/fmf_7wD8nAV.jpg
END:VEVENT
BEGIN:VEVENT
DTSTART;TZID=America/Denver:20280701T130000
DTEND;TZID=America/Denver:20280701T140000
DTSTAMP:20260422T162228
CREATED:20240216T192719Z
LAST-MODIFIED:20240320T153126Z
UID:10001857-1846069200-1846072800@goodgreenacres.com
SUMMARY:Volunteer Opportunities
DESCRIPTION:Donate your time at the farm\, and help us grow produce for our local food drive.
URL:https://goodgreenacres.com/event/volunteer-opportunities-2/2028-07-01/
LOCATION:Good Green Acres
ATTACH;FMTTYPE=image/jpeg:https://goodgreenacres.com/wp-content/uploads/2024/01/fmf_7wD8nAV.jpg
END:VEVENT
BEGIN:VEVENT
DTSTART;TZID=America/Denver:20280709T130000
DTEND;TZID=America/Denver:20280709T140000
DTSTAMP:20260422T162228
CREATED:20240216T192719Z
LAST-MODIFIED:20240320T153126Z
UID:10001860-1846760400-1846764000@goodgreenacres.com
SUMMARY:Volunteer Opportunities
DESCRIPTION:Donate your time at the farm\, and help us grow produce for our local food drive.
URL:https://goodgreenacres.com/event/volunteer-opportunities-2/2028-07-09/
LOCATION:Good Green Acres
ATTACH;FMTTYPE=image/jpeg:https://goodgreenacres.com/wp-content/uploads/2024/01/fmf_7wD8nAV.jpg
END:VEVENT
BEGIN:VEVENT
DTSTART;TZID=America/Denver:20280715T130000
DTEND;TZID=America/Denver:20280715T140000
DTSTAMP:20260422T162228
CREATED:20240216T192719Z
LAST-MODIFIED:20240320T153126Z
UID:10001861-1847278800-1847282400@goodgreenacres.com
SUMMARY:Volunteer Opportunities
DESCRIPTION:Donate your time at the farm\, and help us grow produce for our local food drive.
URL:https://goodgreenacres.com/event/volunteer-opportunities-2/2028-07-15/
LOCATION:Good Green Acres
ATTACH;FMTTYPE=image/jpeg:https://goodgreenacres.com/wp-content/uploads/2024/01/fmf_7wD8nAV.jpg
END:VEVENT
BEGIN:VEVENT
DTSTART;TZID=America/Denver:20280723T130000
DTEND;TZID=America/Denver:20280723T140000
DTSTAMP:20260422T162228
CREATED:20240216T192719Z
LAST-MODIFIED:20240320T153126Z
UID:10001864-1847970000-1847973600@goodgreenacres.com
SUMMARY:Volunteer Opportunities
DESCRIPTION:Donate your time at the farm\, and help us grow produce for our local food drive.
URL:https://goodgreenacres.com/event/volunteer-opportunities-2/2028-07-23/
LOCATION:Good Green Acres
ATTACH;FMTTYPE=image/jpeg:https://goodgreenacres.com/wp-content/uploads/2024/01/fmf_7wD8nAV.jpg
END:VEVENT
BEGIN:VEVENT
DTSTART;TZID=America/Denver:20280729T130000
DTEND;TZID=America/Denver:20280729T140000
DTSTAMP:20260422T162228
CREATED:20240216T192719Z
LAST-MODIFIED:20240320T153126Z
UID:10001865-1848488400-1848492000@goodgreenacres.com
SUMMARY:Volunteer Opportunities
DESCRIPTION:Donate your time at the farm\, and help us grow produce for our local food drive.
URL:https://goodgreenacres.com/event/volunteer-opportunities-2/2028-07-29/
LOCATION:Good Green Acres
ATTACH;FMTTYPE=image/jpeg:https://goodgreenacres.com/wp-content/uploads/2024/01/fmf_7wD8nAV.jpg
END:VEVENT
BEGIN:VEVENT
DTSTART;TZID=America/Denver:20280806T130000
DTEND;TZID=America/Denver:20280806T140000
DTSTAMP:20260422T162228
CREATED:20240216T192719Z
LAST-MODIFIED:20240320T153126Z
UID:10001868-1849179600-1849183200@goodgreenacres.com
SUMMARY:Volunteer Opportunities
DESCRIPTION:Donate your time at the farm\, and help us grow produce for our local food drive.
URL:https://goodgreenacres.com/event/volunteer-opportunities-2/2028-08-06/
LOCATION:Good Green Acres
ATTACH;FMTTYPE=image/jpeg:https://goodgreenacres.com/wp-content/uploads/2024/01/fmf_7wD8nAV.jpg
END:VEVENT
BEGIN:VEVENT
DTSTART;TZID=America/Denver:20280812T130000
DTEND;TZID=America/Denver:20280812T140000
DTSTAMP:20260422T162228
CREATED:20240216T192719Z
LAST-MODIFIED:20240320T153126Z
UID:10001869-1849698000-1849701600@goodgreenacres.com
SUMMARY:Volunteer Opportunities
DESCRIPTION:Donate your time at the farm\, and help us grow produce for our local food drive.
URL:https://goodgreenacres.com/event/volunteer-opportunities-2/2028-08-12/
LOCATION:Good Green Acres
ATTACH;FMTTYPE=image/jpeg:https://goodgreenacres.com/wp-content/uploads/2024/01/fmf_7wD8nAV.jpg
END:VEVENT
BEGIN:VEVENT
DTSTART;TZID=America/Denver:20280820T130000
DTEND;TZID=America/Denver:20280820T140000
DTSTAMP:20260422T162228
CREATED:20240216T192719Z
LAST-MODIFIED:20240320T153126Z
UID:10001872-1850389200-1850392800@goodgreenacres.com
SUMMARY:Volunteer Opportunities
DESCRIPTION:Donate your time at the farm\, and help us grow produce for our local food drive.
URL:https://goodgreenacres.com/event/volunteer-opportunities-2/2028-08-20/
LOCATION:Good Green Acres
ATTACH;FMTTYPE=image/jpeg:https://goodgreenacres.com/wp-content/uploads/2024/01/fmf_7wD8nAV.jpg
END:VEVENT
BEGIN:VEVENT
DTSTART;TZID=America/Denver:20280826T130000
DTEND;TZID=America/Denver:20280826T140000
DTSTAMP:20260422T162228
CREATED:20240216T192719Z
LAST-MODIFIED:20240320T153126Z
UID:10001873-1850907600-1850911200@goodgreenacres.com
SUMMARY:Volunteer Opportunities
DESCRIPTION:Donate your time at the farm\, and help us grow produce for our local food drive.
URL:https://goodgreenacres.com/event/volunteer-opportunities-2/2028-08-26/
LOCATION:Good Green Acres
ATTACH;FMTTYPE=image/jpeg:https://goodgreenacres.com/wp-content/uploads/2024/01/fmf_7wD8nAV.jpg
END:VEVENT
BEGIN:VEVENT
DTSTART;TZID=America/Denver:20280903T130000
DTEND;TZID=America/Denver:20280903T140000
DTSTAMP:20260422T162228
CREATED:20240216T192719Z
LAST-MODIFIED:20240320T153126Z
UID:10001876-1851598800-1851602400@goodgreenacres.com
SUMMARY:Volunteer Opportunities
DESCRIPTION:Donate your time at the farm\, and help us grow produce for our local food drive.
URL:https://goodgreenacres.com/event/volunteer-opportunities-2/2028-09-03/
LOCATION:Good Green Acres
ATTACH;FMTTYPE=image/jpeg:https://goodgreenacres.com/wp-content/uploads/2024/01/fmf_7wD8nAV.jpg
END:VEVENT
BEGIN:VEVENT
DTSTART;TZID=America/Denver:20280909T130000
DTEND;TZID=America/Denver:20280909T140000
DTSTAMP:20260422T162228
CREATED:20240216T192719Z
LAST-MODIFIED:20240320T153126Z
UID:10001877-1852117200-1852120800@goodgreenacres.com
SUMMARY:Volunteer Opportunities
DESCRIPTION:Donate your time at the farm\, and help us grow produce for our local food drive.
URL:https://goodgreenacres.com/event/volunteer-opportunities-2/2028-09-09/
LOCATION:Good Green Acres
ATTACH;FMTTYPE=image/jpeg:https://goodgreenacres.com/wp-content/uploads/2024/01/fmf_7wD8nAV.jpg
END:VEVENT
BEGIN:VEVENT
DTSTART;TZID=America/Denver:20280917T130000
DTEND;TZID=America/Denver:20280917T140000
DTSTAMP:20260422T162228
CREATED:20240216T192719Z
LAST-MODIFIED:20240320T153126Z
UID:10001880-1852808400-1852812000@goodgreenacres.com
SUMMARY:Volunteer Opportunities
DESCRIPTION:Donate your time at the farm\, and help us grow produce for our local food drive.
URL:https://goodgreenacres.com/event/volunteer-opportunities-2/2028-09-17/
LOCATION:Good Green Acres
ATTACH;FMTTYPE=image/jpeg:https://goodgreenacres.com/wp-content/uploads/2024/01/fmf_7wD8nAV.jpg
END:VEVENT
BEGIN:VEVENT
DTSTART;TZID=America/Denver:20280923T130000
DTEND;TZID=America/Denver:20280923T140000
DTSTAMP:20260422T162228
CREATED:20240216T192719Z
LAST-MODIFIED:20240320T153126Z
UID:10001881-1853326800-1853330400@goodgreenacres.com
SUMMARY:Volunteer Opportunities
DESCRIPTION:Donate your time at the farm\, and help us grow produce for our local food drive.
URL:https://goodgreenacres.com/event/volunteer-opportunities-2/2028-09-23/
LOCATION:Good Green Acres
ATTACH;FMTTYPE=image/jpeg:https://goodgreenacres.com/wp-content/uploads/2024/01/fmf_7wD8nAV.jpg
END:VEVENT
BEGIN:VEVENT
DTSTART;TZID=America/Denver:20281001T130000
DTEND;TZID=America/Denver:20281001T140000
DTSTAMP:20260422T162228
CREATED:20240216T192719Z
LAST-MODIFIED:20240320T153126Z
UID:10001884-1854018000-1854021600@goodgreenacres.com
SUMMARY:Volunteer Opportunities
DESCRIPTION:Donate your time at the farm\, and help us grow produce for our local food drive.
URL:https://goodgreenacres.com/event/volunteer-opportunities-2/2028-10-01/
LOCATION:Good Green Acres
ATTACH;FMTTYPE=image/jpeg:https://goodgreenacres.com/wp-content/uploads/2024/01/fmf_7wD8nAV.jpg
END:VEVENT
BEGIN:VEVENT
DTSTART;TZID=America/Denver:20281007T130000
DTEND;TZID=America/Denver:20281007T140000
DTSTAMP:20260422T162228
CREATED:20240216T192719Z
LAST-MODIFIED:20240320T153126Z
UID:10001885-1854536400-1854540000@goodgreenacres.com
SUMMARY:Volunteer Opportunities
DESCRIPTION:Donate your time at the farm\, and help us grow produce for our local food drive.
URL:https://goodgreenacres.com/event/volunteer-opportunities-2/2028-10-07/
LOCATION:Good Green Acres
ATTACH;FMTTYPE=image/jpeg:https://goodgreenacres.com/wp-content/uploads/2024/01/fmf_7wD8nAV.jpg
END:VEVENT
BEGIN:VEVENT
DTSTART;TZID=America/Denver:20281015T130000
DTEND;TZID=America/Denver:20281015T140000
DTSTAMP:20260422T162228
CREATED:20240216T192719Z
LAST-MODIFIED:20240320T153126Z
UID:10001888-1855227600-1855231200@goodgreenacres.com
SUMMARY:Volunteer Opportunities
DESCRIPTION:Donate your time at the farm\, and help us grow produce for our local food drive.
URL:https://goodgreenacres.com/event/volunteer-opportunities-2/2028-10-15/
LOCATION:Good Green Acres
ATTACH;FMTTYPE=image/jpeg:https://goodgreenacres.com/wp-content/uploads/2024/01/fmf_7wD8nAV.jpg
END:VEVENT
BEGIN:VEVENT
DTSTART;TZID=America/Denver:20281021T130000
DTEND;TZID=America/Denver:20281021T140000
DTSTAMP:20260422T162228
CREATED:20240216T192719Z
LAST-MODIFIED:20240320T153126Z
UID:10001889-1855746000-1855749600@goodgreenacres.com
SUMMARY:Volunteer Opportunities
DESCRIPTION:Donate your time at the farm\, and help us grow produce for our local food drive.
URL:https://goodgreenacres.com/event/volunteer-opportunities-2/2028-10-21/
LOCATION:Good Green Acres
ATTACH;FMTTYPE=image/jpeg:https://goodgreenacres.com/wp-content/uploads/2024/01/fmf_7wD8nAV.jpg
END:VEVENT
BEGIN:VEVENT
DTSTART;TZID=America/Denver:20281029T130000
DTEND;TZID=America/Denver:20281029T140000
DTSTAMP:20260422T162228
CREATED:20240216T192719Z
LAST-MODIFIED:20240320T153126Z
UID:10001892-1856437200-1856440800@goodgreenacres.com
SUMMARY:Volunteer Opportunities
DESCRIPTION:Donate your time at the farm\, and help us grow produce for our local food drive.
URL:https://goodgreenacres.com/event/volunteer-opportunities-2/2028-10-29/
LOCATION:Good Green Acres
ATTACH;FMTTYPE=image/jpeg:https://goodgreenacres.com/wp-content/uploads/2024/01/fmf_7wD8nAV.jpg
END:VEVENT
BEGIN:VEVENT
DTSTART;TZID=America/Denver:20281104T130000
DTEND;TZID=America/Denver:20281104T140000
DTSTAMP:20260422T162228
CREATED:20240216T192719Z
LAST-MODIFIED:20240320T153126Z
UID:10001893-1856955600-1856959200@goodgreenacres.com
SUMMARY:Volunteer Opportunities
DESCRIPTION:Donate your time at the farm\, and help us grow produce for our local food drive.
URL:https://goodgreenacres.com/event/volunteer-opportunities-2/2028-11-04/
LOCATION:Good Green Acres
ATTACH;FMTTYPE=image/jpeg:https://goodgreenacres.com/wp-content/uploads/2024/01/fmf_7wD8nAV.jpg
END:VEVENT
BEGIN:VEVENT
DTSTART;TZID=America/Denver:20281112T130000
DTEND;TZID=America/Denver:20281112T140000
DTSTAMP:20260422T162228
CREATED:20240216T192719Z
LAST-MODIFIED:20240320T153126Z
UID:10001896-1857646800-1857650400@goodgreenacres.com
SUMMARY:Volunteer Opportunities
DESCRIPTION:Donate your time at the farm\, and help us grow produce for our local food drive.
URL:https://goodgreenacres.com/event/volunteer-opportunities-2/2028-11-12/
LOCATION:Good Green Acres
ATTACH;FMTTYPE=image/jpeg:https://goodgreenacres.com/wp-content/uploads/2024/01/fmf_7wD8nAV.jpg
END:VEVENT
BEGIN:VEVENT
DTSTART;TZID=America/Denver:20281118T130000
DTEND;TZID=America/Denver:20281118T140000
DTSTAMP:20260422T162228
CREATED:20240216T192719Z
LAST-MODIFIED:20240320T153126Z
UID:10001897-1858165200-1858168800@goodgreenacres.com
SUMMARY:Volunteer Opportunities
DESCRIPTION:Donate your time at the farm\, and help us grow produce for our local food drive.
URL:https://goodgreenacres.com/event/volunteer-opportunities-2/2028-11-18/
LOCATION:Good Green Acres
ATTACH;FMTTYPE=image/jpeg:https://goodgreenacres.com/wp-content/uploads/2024/01/fmf_7wD8nAV.jpg
END:VEVENT
BEGIN:VEVENT
DTSTART;TZID=America/Denver:20281126T130000
DTEND;TZID=America/Denver:20281126T140000
DTSTAMP:20260422T162228
CREATED:20240216T192719Z
LAST-MODIFIED:20240320T153126Z
UID:10001900-1858856400-1858860000@goodgreenacres.com
SUMMARY:Volunteer Opportunities
DESCRIPTION:Donate your time at the farm\, and help us grow produce for our local food drive.
URL:https://goodgreenacres.com/event/volunteer-opportunities-2/2028-11-26/
LOCATION:Good Green Acres
ATTACH;FMTTYPE=image/jpeg:https://goodgreenacres.com/wp-content/uploads/2024/01/fmf_7wD8nAV.jpg
END:VEVENT
BEGIN:VEVENT
DTSTART;TZID=America/Denver:20281202T130000
DTEND;TZID=America/Denver:20281202T140000
DTSTAMP:20260422T162228
CREATED:20240216T192719Z
LAST-MODIFIED:20240320T153126Z
UID:10001901-1859374800-1859378400@goodgreenacres.com
SUMMARY:Volunteer Opportunities
DESCRIPTION:Donate your time at the farm\, and help us grow produce for our local food drive.
URL:https://goodgreenacres.com/event/volunteer-opportunities-2/2028-12-02/
LOCATION:Good Green Acres
ATTACH;FMTTYPE=image/jpeg:https://goodgreenacres.com/wp-content/uploads/2024/01/fmf_7wD8nAV.jpg
END:VEVENT
BEGIN:VEVENT
DTSTART;TZID=America/Denver:20281210T130000
DTEND;TZID=America/Denver:20281210T140000
DTSTAMP:20260422T162228
CREATED:20240216T192719Z
LAST-MODIFIED:20240320T153126Z
UID:10001904-1860066000-1860069600@goodgreenacres.com
SUMMARY:Volunteer Opportunities
DESCRIPTION:Donate your time at the farm\, and help us grow produce for our local food drive.
URL:https://goodgreenacres.com/event/volunteer-opportunities-2/2028-12-10/
LOCATION:Good Green Acres
ATTACH;FMTTYPE=image/jpeg:https://goodgreenacres.com/wp-content/uploads/2024/01/fmf_7wD8nAV.jpg
END:VEVENT
END:VCALENDAR