BEGIN:VCALENDAR
VERSION:2.0
PRODID:-//Good Green Acres - ECPv6.15.20//NONSGML v1.0//EN
CALSCALE:GREGORIAN
METHOD:PUBLISH
X-WR-CALNAME:Good Green Acres
X-ORIGINAL-URL:https://goodgreenacres.com
X-WR-CALDESC:Events for Good Green Acres
REFRESH-INTERVAL;VALUE=DURATION:PT1H
X-Robots-Tag:noindex
X-PUBLISHED-TTL:PT1H
BEGIN:VTIMEZONE
TZID:America/Denver
BEGIN:DAYLIGHT
TZOFFSETFROM:-0700
TZOFFSETTO:-0600
TZNAME:MDT
DTSTART:20230312T090000
END:DAYLIGHT
BEGIN:STANDARD
TZOFFSETFROM:-0600
TZOFFSETTO:-0700
TZNAME:MST
DTSTART:20231105T080000
END:STANDARD
BEGIN:DAYLIGHT
TZOFFSETFROM:-0700
TZOFFSETTO:-0600
TZNAME:MDT
DTSTART:20240310T090000
END:DAYLIGHT
BEGIN:STANDARD
TZOFFSETFROM:-0600
TZOFFSETTO:-0700
TZNAME:MST
DTSTART:20241103T080000
END:STANDARD
BEGIN:DAYLIGHT
TZOFFSETFROM:-0700
TZOFFSETTO:-0600
TZNAME:MDT
DTSTART:20250309T090000
END:DAYLIGHT
BEGIN:STANDARD
TZOFFSETFROM:-0600
TZOFFSETTO:-0700
TZNAME:MST
DTSTART:20251102T080000
END:STANDARD
END:VTIMEZONE
BEGIN:VEVENT
DTSTART;TZID=America/Denver:20240630T130000
DTEND;TZID=America/Denver:20240630T140000
DTSTAMP:20260423T014005
CREATED:20240216T192719Z
LAST-MODIFIED:20240320T153126Z
UID:10001440-1719752400-1719756000@goodgreenacres.com
SUMMARY:Volunteer Opportunities
DESCRIPTION:Donate your time at the farm\, and help us grow produce for our local food drive.
URL:https://goodgreenacres.com/event/volunteer-opportunities-2/2024-06-30/
LOCATION:Good Green Acres
ATTACH;FMTTYPE=image/jpeg:https://goodgreenacres.com/wp-content/uploads/2024/01/fmf_7wD8nAV.jpg
END:VEVENT
BEGIN:VEVENT
DTSTART;TZID=America/Denver:20240622T130000
DTEND;TZID=America/Denver:20240622T140000
DTSTAMP:20260423T014005
CREATED:20240216T192719Z
LAST-MODIFIED:20240320T153126Z
UID:10001437-1719061200-1719064800@goodgreenacres.com
SUMMARY:Volunteer Opportunities
DESCRIPTION:Donate your time at the farm\, and help us grow produce for our local food drive.
URL:https://goodgreenacres.com/event/volunteer-opportunities-2/2024-06-22/
LOCATION:Good Green Acres
ATTACH;FMTTYPE=image/jpeg:https://goodgreenacres.com/wp-content/uploads/2024/01/fmf_7wD8nAV.jpg
END:VEVENT
BEGIN:VEVENT
DTSTART;TZID=America/Denver:20240616T130000
DTEND;TZID=America/Denver:20240616T140000
DTSTAMP:20260423T014005
CREATED:20240216T192719Z
LAST-MODIFIED:20240320T153126Z
UID:10001436-1718542800-1718546400@goodgreenacres.com
SUMMARY:Volunteer Opportunities
DESCRIPTION:Donate your time at the farm\, and help us grow produce for our local food drive.
URL:https://goodgreenacres.com/event/volunteer-opportunities-2/2024-06-16/
LOCATION:Good Green Acres
ATTACH;FMTTYPE=image/jpeg:https://goodgreenacres.com/wp-content/uploads/2024/01/fmf_7wD8nAV.jpg
END:VEVENT
BEGIN:VEVENT
DTSTART;TZID=America/Denver:20240608T130000
DTEND;TZID=America/Denver:20240608T140000
DTSTAMP:20260423T014005
CREATED:20240216T192719Z
LAST-MODIFIED:20240320T153126Z
UID:10001433-1717851600-1717855200@goodgreenacres.com
SUMMARY:Volunteer Opportunities
DESCRIPTION:Donate your time at the farm\, and help us grow produce for our local food drive.
URL:https://goodgreenacres.com/event/volunteer-opportunities-2/2024-06-08/
LOCATION:Good Green Acres
ATTACH;FMTTYPE=image/jpeg:https://goodgreenacres.com/wp-content/uploads/2024/01/fmf_7wD8nAV.jpg
END:VEVENT
BEGIN:VEVENT
DTSTART;TZID=America/Denver:20240602T130000
DTEND;TZID=America/Denver:20240602T140000
DTSTAMP:20260423T014005
CREATED:20240216T192719Z
LAST-MODIFIED:20240320T153126Z
UID:10001432-1717333200-1717336800@goodgreenacres.com
SUMMARY:Volunteer Opportunities
DESCRIPTION:Donate your time at the farm\, and help us grow produce for our local food drive.
URL:https://goodgreenacres.com/event/volunteer-opportunities-2/2024-06-02/
LOCATION:Good Green Acres
ATTACH;FMTTYPE=image/jpeg:https://goodgreenacres.com/wp-content/uploads/2024/01/fmf_7wD8nAV.jpg
END:VEVENT
BEGIN:VEVENT
DTSTART;TZID=America/Denver:20240525T130000
DTEND;TZID=America/Denver:20240525T140000
DTSTAMP:20260423T014005
CREATED:20240216T192719Z
LAST-MODIFIED:20240320T153126Z
UID:10001429-1716642000-1716645600@goodgreenacres.com
SUMMARY:Volunteer Opportunities
DESCRIPTION:Donate your time at the farm\, and help us grow produce for our local food drive.
URL:https://goodgreenacres.com/event/volunteer-opportunities-2/2024-05-25/
LOCATION:Good Green Acres
ATTACH;FMTTYPE=image/jpeg:https://goodgreenacres.com/wp-content/uploads/2024/01/fmf_7wD8nAV.jpg
END:VEVENT
BEGIN:VEVENT
DTSTART;TZID=America/Denver:20240519T130000
DTEND;TZID=America/Denver:20240519T140000
DTSTAMP:20260423T014005
CREATED:20240216T192719Z
LAST-MODIFIED:20240320T153126Z
UID:10001428-1716123600-1716127200@goodgreenacres.com
SUMMARY:Volunteer Opportunities
DESCRIPTION:Donate your time at the farm\, and help us grow produce for our local food drive.
URL:https://goodgreenacres.com/event/volunteer-opportunities-2/2024-05-19/
LOCATION:Good Green Acres
ATTACH;FMTTYPE=image/jpeg:https://goodgreenacres.com/wp-content/uploads/2024/01/fmf_7wD8nAV.jpg
END:VEVENT
BEGIN:VEVENT
DTSTART;TZID=America/Denver:20240511T130000
DTEND;TZID=America/Denver:20240511T140000
DTSTAMP:20260423T014005
CREATED:20240216T192719Z
LAST-MODIFIED:20240320T153126Z
UID:10001425-1715432400-1715436000@goodgreenacres.com
SUMMARY:Volunteer Opportunities
DESCRIPTION:Donate your time at the farm\, and help us grow produce for our local food drive.
URL:https://goodgreenacres.com/event/volunteer-opportunities-2/2024-05-11/
LOCATION:Good Green Acres
ATTACH;FMTTYPE=image/jpeg:https://goodgreenacres.com/wp-content/uploads/2024/01/fmf_7wD8nAV.jpg
END:VEVENT
END:VCALENDAR